BEGIN:VCALENDAR
VERSION:2.0
PRODID:SchoolNow
CALSCALE:GREGORIAN
BEGIN:VEVENT
UID:e5617eec-7d38-11f0-a4a8-0a58a9feac02
DTSTAMP:20250819T201256Z
SUMMARY:CDD Board Meeting - Jun. 2026
LOCATION:Reach Church\, 31431 Payne Road\, Sorrento FL 32757
URL;VALUE=URI:https://www.countrygreenscdd.org/calendar/8522561/cdd-board-m
 eeting-jun-2026
DTSTART:20260609T220000Z
DTEND:20260609T230000Z
END:VEVENT
END:VCALENDAR
