BEGIN:VCALENDAR
VERSION:2.0
PRODID:SchoolNow
CALSCALE:GREGORIAN
BEGIN:VEVENT
UID:ddb039c2-7d38-11f0-b538-022e31aca1f7
DTSTAMP:20250819T201243Z
SUMMARY:CDD Board Meeting - May 2026
LOCATION:Reach Church\, 31431 Payne Road\, Sorrento FL 32757
URL;VALUE=URI:https://www.countrygreenscdd.org/calendar/8522560/cdd-board-m
 eeting-may-2026
DTSTART:20260512T220000Z
DTEND:20260512T230000Z
END:VEVENT
END:VCALENDAR
